Workbook

Sheet FIA正会員年会費計算書
B2: FIA正会員年会費計算書
A6: A．基本料金 | I6: 50000 | J6: 円
A8: B．直営ﾌｨｯﾄﾈｽｸﾗﾌﾞ店舗数 | G8: 店舗 | H8: ×3万円 | I8: =F8*30000 -> 0 | J8: 円
A11: C．その他の運営形態のﾌｨｯﾄﾈｽｸﾗﾌﾞ店舗数 | G11: 店舗 | H11: ×3万円 | I11: =F11*30000 -> 0 | J11: 円
A12: ※運営受託、指導受託、指定管理、FC、100坪未満の小型ﾌｨｯﾄﾈｽｸﾗﾌﾞ
A14: D．ﾌｨｯﾄﾈｽ以外のｽﾎﾟｰﾂ関連施設店舗数 | G14: 店舗 | H14: ×5千円 | I14: =F14*5000 -> 0 | J14: 円
A15: ※スイミング単体、テニス、フットサル、ゴルフ練習場、ﾊﾞｯﾃｨﾝｸﾞｾﾝﾀｰ等
E18: 合計 | F18: =SUM(F8+F11+F14) -> 0 | G18: 店舗 | H18: 年会費合計 | I18: =SUM(I6+I8+I11+I14) -> 50000 | J18: 円
A21: 注意事項 | B21: ① | C21: C．のその他運営形態のフィットネスクラブとは、a.運営受託、b.指導受託、c.指定管理d.フランチャイズによるクラブ、e.100坪未満の小型ｼﾞﾑ･ｽﾀｼﾞｵ型ﾌｨｯﾄﾈｽｸﾗﾌﾞを指す。
B22: ② | C22: D．のフィットネス以外のスポーツ関連施設店舗とは、スイミング単体施設、テニス、ゴルフ練習場、フットサル、バッティングセンターなど、フィットネスとは別に独立したスポーツ施設事業所として営まれている店舗を指す。
C23: 但し、自主事業等を行わず施設管理・予約管理等のみの業務を行っているものを除く。
C24: （例：運動場やテニスコートの施設管理、予約管理、等）
B25: ③ | C25: 運営受託先・指導受託先・フランチャイズ先のオーナー企業がFIAに入会している場合は、店舗のダブルカウントを避けるため、オーナー企業側が当該店舗の年会費を負担する。
B26: ④ | C26: 本協会の会費は「業界団体の業務運営に必要な通常会費」にあたり、消費税取引の対象外となります。
B27: ⑤ | C27: 上記計算式による年会費金額が150万円を超える場合は、150万円を上限とする。
A30: ◇FIA年会費計算の例
B31: ①まず、[B.直営店舗が3あり]、
B32: ②他に[C.運営受託2、指導受託1、FC1店舗がある中で
B33: その1店舗はそのオーナー企業がFIAに入会しており
B34: （2＋1＋1－1= 3×1万円）]、
B35: ③さらに[D.スイミング1、テニス1を持つ（1＋1= 2×5千円で計算）]
B36: 企業の場合
B38: A. | C38: 基本料金5万円 | H38: 5万円
B39: B. | C39: 直営クラブ数3×3万円 | H39: 9万円
B40: C. | C40: その他の運営形態クラブ＜2＋1＋1－1＞＝3×1万円 | H40: 3万円
B41: D. | C41: スイミング単体その他＜1＋1＞＝2×5千円 | H41: 1万円
F43: FIA年会費： | H43: 18万円

Sheet 利用状況届出書
A1: 申込人 | B1: 法人名
B2: 住所
Q3: （JASRAC使用欄）
A4: № | B4: 区分 | C4: 施設名称 | D4: 施設住所 | E4: 施設電話番号 | F4: 開業日 （YYYYMMDD) | G4: 変更（廃業）日 （YYYYMMDD） | H4: 月額使用料 （自動計算） | I4: 月会費 （税抜） | J4: 面積 （合計） | K4: スタジオ | N4: ジム | O4: プール | Q4: 施設コード
K5: 第1 | L5: 第2 | M5: 第3
A6: 1 | B6: 変更なし | H6: =IF(OR(利用状況届出書!I6<1,利用状況届出書!J6<1),"",INDEX(TBL!$C$4:$AU$47,MATCH(利用状況届出書!I6,TBL!$B$4:$B$47),MATCH(利用状況届出書!J6,TBL!$C$3:$AU$3))) -> 1550 | I6: 1000 | J6: =SUM(K6:O6) -> 30 | K6: 10 | L6: 10 | M6: 10
A7: 2 | B7: 変更なし | H7: =IF(OR(利用状況届出書!I7<1,利用状況届出書!J7<1),"",INDEX(TBL!$C$4:$AU$47,MATCH(利用状況届出書!I7,TBL!$B$4:$B$47),MATCH(利用状況届出書!J7,TBL!$C$3:$AU$3))) | J7: =SUM(K7:O7) -> 0
A8: 3 | B8: 変更なし | H8: =IF(OR(利用状況届出書!I8<1,利用状況届出書!J8<1),"",INDEX(TBL!$C$4:$AU$47,MATCH(利用状況届出書!I8,TBL!$B$4:$B$47),MATCH(利用状況届出書!J8,TBL!$C$3:$AU$3))) | J8: =SUM(K8:O8) -> 0
A9: 4 | B9: 変更なし | H9: =IF(OR(利用状況届出書!I9<1,利用状況届出書!J9<1),"",INDEX(TBL!$C$4:$AU$47,MATCH(利用状況届出書!I9,TBL!$B$4:$B$47),MATCH(利用状況届出書!J9,TBL!$C$3:$AU$3))) | J9: =SUM(K9:O9) -> 0
A10: 5 | B10: 変更なし | H10: =IF(OR(利用状況届出書!I10<1,利用状況届出書!J10<1),"",INDEX(TBL!$C$4:$AU$47,MATCH(利用状況届出書!I10,TBL!$B$4:$B$47),MATCH(利用状況届出書!J10,TBL!$C$3:$AU$3))) | J10: =SUM(K10:O10) -> 0
A11: 6 | B11: 変更なし | H11: =IF(OR(利用状況届出書!I11<1,利用状況届出書!J11<1),"",INDEX(TBL!$C$4:$AU$47,MATCH(利用状況届出書!I11,TBL!$B$4:$B$47),MATCH(利用状況届出書!J11,TBL!$C$3:$AU$3))) | J11: =SUM(K11:O11) -> 0
A12: 7 | B12: 変更なし | H12: =IF(OR(利用状況届出書!I12<1,利用状況届出書!J12<1),"",INDEX(TBL!$C$4:$AU$47,MATCH(利用状況届出書!I12,TBL!$B$4:$B$47),MATCH(利用状況届出書!J12,TBL!$C$3:$AU$3))) | J12: =SUM(K12:O12) -> 0
A13: 8 | B13: 変更なし | H13: =IF(OR(利用状況届出書!I13<1,利用状況届出書!J13<1),"",INDEX(TBL!$C$4:$AU$47,MATCH(利用状況届出書!I13,TBL!$B$4:$B$47),MATCH(利用状況届出書!J13,TBL!$C$3:$AU$3))) | J13: =SUM(K13:O13) -> 0
A14: 9 | B14: 変更なし | H14: =IF(OR(利用状況届出書!I14<1,利用状況届出書!J14<1),"",INDEX(TBL!$C$4:$AU$47,MATCH(利用状況届出書!I14,TBL!$B$4:$B$47),MATCH(利用状況届出書!J14,TBL!$C$3:$AU$3))) | J14: =SUM(K14:O14) -> 0
A15: 10 | B15: 変更なし | H15: =IF(OR(利用状況届出書!I15<1,利用状況届出書!J15<1),"",INDEX(TBL!$C$4:$AU$47,MATCH(利用状況届出書!I15,TBL!$B$4:$B$47),MATCH(利用状況届出書!J15,TBL!$C$3:$AU$3))) | J15: =SUM(K15:O15) -> 0
A16: 11 | B16: 変更なし | H16: =IF(OR(利用状況届出書!I16<1,利用状況届出書!J16<1),"",INDEX(TBL!$C$4:$AU$47,MATCH(利用状況届出書!I16,TBL!$B$4:$B$47),MATCH(利用状況届出書!J16,TBL!$C$3:$AU$3))) | J16: =SUM(K16:O16) -> 0
A17: 12 | B17: 変更なし | H17: =IF(OR(利用状況届出書!I17<1,利用状況届出書!J17<1),"",INDEX(TBL!$C$4:$AU$47,MATCH(利用状況届出書!I17,TBL!$B$4:$B$47),MATCH(利用状況届出書!J17,TBL!$C$3:$AU$3))) | J17: =SUM(K17:O17) -> 0
A18: 13 | B18: 変更なし | H18: =IF(OR(利用状況届出書!I18<1,利用状況届出書!J18<1),"",INDEX(TBL!$C$4:$AU$47,MATCH(利用状況届出書!I18,TBL!$B$4:$B$47),MATCH(利用状況届出書!J18,TBL!$C$3:$AU$3))) | J18: =SUM(K18:O18) -> 0
... A105: 100 | B105: 変更なし | H105: =IF(OR(利用状況届出書!I105<1,利用状況届出書!J105<1),"",INDEX(TBL!$C$4:$AU$47,MATCH(利用状況届出書!I105,TBL!$B$4:$B$47),MATCH(利用状況届出書!J105,TBL!$C$3:$AU$3))) | J105: =SUM(K105:O105) -> 0

Sheet 【記入例】利用状況届出書
A1: 申込人 | B1: 法人名
B2: 住所
Q3: （JASRAC使用欄）
A4: № | B4: 区分 | C4: 施設名称 | D4: 施設住所 | E4: 施設電話番号 | F4: 開業日 （YYYYMMDD) | G4: 変更（廃業）日 （YYYYMMDD） | H4: 月額使用料 （自動計算） | I4: 月会費 （税抜） | J4: 面積 （合計） | K4: スタジオ | N4: ジム | O4: プール | Q4: 施設コード
K5: 第1 | L5: 第2 | M5: 第3
A6: 記入例 （変更なし） | B6: 変更なし | C6: 神田駅前フィットネスクラブ | D6: 千代田区神田駅 | E6: 03-1234-5678 | H6: =IF(OR(【記入例】利用状況届出書!I6<1,【記入例】利用状況届出書!J6<1),"",INDEX(TBL!$C$4:$AU$47,MATCH(【記入例】利用状況届出書!I6,TBL!$B$4:$B$47),MATCH(【記入例】利用状況届出書!J6,TBL!$C$3:$AU$3))) -> 15860 | I6: 10000 | J6: =SUM(K6:O6) -> 410 | K6: 150 | L6: 80 | N6: 60 | O6: 120
A7: 記入例 （新規店舗） | B7: 新規 | C7: 神田駅前フィットネスクラブ2 | D7: 千代田区神田駅 | E7: 03-2345-6789 | F7: 41974 | H7: =IF(OR(【記入例】利用状況届出書!I7<1,【記入例】利用状況届出書!J7<1),"",INDEX(TBL!$C$4:$AU$47,MATCH(【記入例】利用状況届出書!I7,TBL!$B$4:$B$47),MATCH(【記入例】利用状況届出書!J7,TBL!$C$3:$AU$3))) -> 6100 | I7: 10000 | J7: =SUM(K7:O7) -> 120 | K7: 120
A8: 記入例 （閉店店舗） | B8: 閉店 | C8: 神田駅前フィットネスクラブ3 | D8: 千代田区神田駅 | E8: 03-3456-7890 | G8: 41973 | H8: =IF(OR(【記入例】利用状況届出書!I8<1,【記入例】利用状況届出書!J8<1),"",INDEX(TBL!$C$4:$AU$47,MATCH(【記入例】利用状況届出書!I8,TBL!$B$4:$B$47),MATCH(【記入例】利用状況届出書!J8,TBL!$C$3:$AU$3))) | J8: =SUM(K8:O8) -> 0
A9: 記入例 （変更あり） | B9: 変更あり | C9: 神田駅前フィットネスクラブ4 | D9: 千代田区神田駅 | E9: 03-4567-8910 | G9: 41883 | H9: =IF(OR(【記入例】利用状況届出書!I9<1,【記入例】利用状況届出書!J9<1),"",INDEX(TBL!$C$4:$AU$47,MATCH(【記入例】利用状況届出書!I9,TBL!$B$4:$B$47),MATCH(【記入例】利用状況届出書!J9,TBL!$C$3:$AU$3))) -> 7320 | I9: 10000 | J9: =SUM(K9:O9) -> 180 | K9: 120 | O9: 60
B11: 前年度と変更がある箇所（新規、閉店、面積・会費等）は、行を塗りつぶしてください。

Sheet 注意点
A1: ① | B1: 面積について
A2: ・ | B2: 面積とは、著作物の演奏等が行われる、遮蔽物で仕切られた区域全体の面積をいい、プールの場合は水面部分
B3: （一部分をコースロープで仕切って利用する場合は、著作物の演奏等を伴う運動の指導又は管理が行われる部分）
B4: の面積をいいます。
A5: ・ | B5: 運動の指導又は管理とともに演奏等が行われる場所の面積を入力してください。音楽利用がない場所の面積は入力不要です。
A6: ・ | B6: ビデオグラムの上映のみを行う場合は、当該面積に４０％を乗じた「みなし面積」を入力してください。
A7: ・ | B7: 面積（合計）欄はスタジオ、ジム、プール欄に入力した面積の合計面積が表示されます。
A9: ② | B9: 月会費について
A10: ・ | B10: 月会費とは、当該施設を全営業日の全営業時間利用可能な利用客がその対価として通常支払うことが必要とされる
B11: １か月当たりの額（税抜）をいいます。
A13: ③ | B13: 月額使用料について
A14: ・ | B14: 月額使用料欄については、下記の使用料表より自動計算を行います。
B31: ※1 月会費が12,500円を超える場合、500円までを増すごとに加算する額。
B32: ※2 面積が150坪（495㎡）を超える場合、10坪（33㎡）までを増すごとに加算する額。
A34: ④ | B34: その他
A35: ・ | B35: 施設電話番号は必ず、「半角・市外局番あり・ハイフンあり」で入力してください。
A36: ・ | B36: 印刷指示はA３サイズとしてください。
A37: ・ | B37: 対象施設が100件以上ある場合は適宜入力行を追加してください。
A38: ・ | B38: スタジオ以外のフリースペース等でエアロビクス等のプログラムを実施している場合は、便宜上「スタジオ」欄に面積を入力
B39: してください。

Sheet TBL
C3: 1 | D3: 67 | E3: 166 | F3: 199 | G3: 232 | H3: 265 | I3: 298 | J3: 331 | K3: 364 | L3: 397 | M3: 430 | N3: 463 | O3: 496 | P3: 529 | Q3: 562 | R3: 595 | S3: 628 | T3: 661 | U3: 694 | V3: 727 | W3: 760 | X3: 793 | Y3: 826 | Z3: 859 | AA3: 892 | AB3: 925 | AC3: 958 | AD3: 991 | AE3: 1024 | AF3: 1057 | AG3: 1090 | AH3: 1123 | AI3: 1156 | AJ3: 1189 | AK3: 1222 | AL3: 1255 | AM3: 1288 | AN3: 1321 | AO3: 1354 | AP3: 1387 | AQ3: 1420 | AR3: 1453 | AS3: 1486 | AT3: 1519 | AU3: 1552
B4: 1 | C4: =+D4/2 -> 1550 | D4: 3100 | E4: 3720 | F4: 4340 | G4: 4960 | H4: 5580 | I4: 6200 | J4: 6820 | K4: 7440 | L4: 8060 | M4: 8680 | N4: 9300 | O4: 9920 | P4: 10540 | Q4: 11160 | R4: 11780 | S4: 12400 | T4: 13020 | U4: 13640 | V4: 14260 | W4: 14880 | X4: 15500 | Y4: 16120 | Z4: 16740 | AA4: 17360 | AB4: 17980 | AC4: 18600 | AD4: 19220 | AE4: 19840 | AF4: 20460 | AG4: 21080 | AH4: 21700 | AI4: 22320 | AJ4: 22940 | AK4: 23560 | AL4: 24180 | AM4: 24800 | AN4: 25420 | AO4: 26040 | AP4: 26660 | AQ4: 27280 | AR4: 27900 | AS4: 28520 | AT4: 29140 | AU4: =+AT4+620 -> 29760
B5: 5001 | C5: =+D5/2 -> 1700 | D5: 3400 | E5: 4080 | F5: 4760 | G5: 5440 | H5: 6120 | I5: 6800 | J5: 7480 | K5: 8160 | L5: 8840 | M5: 9520 | N5: 10200 | O5: 10880 | P5: 11560 | Q5: 12240 | R5: 12920 | S5: 13600 | T5: 14280 | U5: 14960 | V5: 15640 | W5: 16320 | X5: 17000 | Y5: 17680 | Z5: 18360 | AA5: 19040 | AB5: 19720 | AC5: 20400 | AD5: 21080 | AE5: 21760 | AF5: 22440 | AG5: 23120 | AH5: 23800 | AI5: 24480 | AJ5: 25160 | AK5: 25840 | AL5: 26520 | AM5: 27200 | AN5: 27880 | AO5: 28560 | AP5: 29240 | AQ5: 29920 | AR5: 30600 | AS5: 31280 | AT5: 31960 | AU5: =+AT5+680 -> 32640
B6: 5501 | C6: =+D6/2 -> 1850 | D6: 3700 | E6: 4440 | F6: 5180 | G6: 5920 | H6: 6660 | I6: 7400 | J6: 8140 | K6: 8880 | L6: 9620 | M6: 10360 | N6: 11100 | O6: 11840 | P6: 12580 | Q6: 13320 | R6: 14060 | S6: 14800 | T6: 15540 | U6: 16280 | V6: 17020 | W6: 17760 | X6: 18500 | Y6: 19240 | Z6: 19980 | AA6: 20720 | AB6: 21460 | AC6: 22200 | AD6: 22940 | AE6: 23680 | AF6: 24420 | AG6: 25160 | AH6: 25900 | AI6: 26640 | AJ6: 27380 | AK6: 28120 | AL6: 28860 | AM6: 29600 | AN6: 30340 | AO6: 31080 | AP6: 31820 | AQ6: 32560 | AR6: 33300 | AS6: 34040 | AT6: 34780 | AU6: =+AT6+740 -> 35520
B7: 6001 | C7: =+D7/2 -> 2000 | D7: 4000 | E7: 4800 | F7: 5600 | G7: 6400 | H7: 7200 | I7: 8000 | J7: 8800 | K7: 9600 | L7: 10400 | M7: 11200 | N7: 12000 | O7: 12800 | P7: 13600 | Q7: 14400 | R7: 15200 | S7: 16000 | T7: 16800 | U7: 17600 | V7: 18400 | W7: 19200 | X7: 20000 | Y7: 20800 | Z7: 21600 | AA7: 22400 | AB7: 23200 | AC7: 24000 | AD7: 24800 | AE7: 25600 | AF7: 26400 | AG7: 27200 | AH7: 28000 | AI7: 28800 | AJ7: 29600 | AK7: 30400 | AL7: 31200 | AM7: 32000 | AN7: 32800 | AO7: 33600 | AP7: 34400 | AQ7: 35200 | AR7: 36000 | AS7: 36800 | AT7: 37600 | AU7: =+AT7+800 -> 38400
B8: 6501 | C8: =+D8/2 -> 2150 | D8: 4300 | E8: 5160 | F8: 6020 | G8: 6880 | H8: 7740 | I8: 8600 | J8: 9460 | K8: 10320 | L8: 11180 | M8: 12040 | N8: 12900 | O8: 13760 | P8: 14620 | Q8: 15480 | R8: 16340 | S8: 17200 | T8: 18060 | U8: 18920 | V8: 19780 | W8: 20640 | X8: 21500 | Y8: 22360 | Z8: 23220 | AA8: 24080 | AB8: 24940 | AC8: 25800 | AD8: 26660 | AE8: 27520 | AF8: 28380 | AG8: 29240 | AH8: 30100 | AI8: 30960 | AJ8: 31820 | AK8: 32680 | AL8: 33540 | AM8: 34400 | AN8: 35260 | AO8: 36120 | AP8: 36980 | AQ8: 37840 | AR8: 38700 | AS8: 39560 | AT8: 40420 | AU8: =+AT8+860 -> 41280
B9: 7001 | C9: =+D9/2 -> 2300 | D9: 4600 | E9: 5520 | F9: 6440 | G9: 7360 | H9: 8280 | I9: 9200 | J9: 10120 | K9: 11040 | L9: 11960 | M9: 12880 | N9: 13800 | O9: 14720 | P9: 15640 | Q9: 16560 | R9: 17480 | S9: 18400 | T9: 19320 | U9: 20240 | V9: 21160 | W9: 22080 | X9: 23000 | Y9: 23920 | Z9: 24840 | AA9: 25760 | AB9: 26680 | AC9: 27600 | AD9: 28520 | AE9: 29440 | AF9: 30360 | AG9: 31280 | AH9: 32200 | AI9: 33120 | AJ9: 34040 | AK9: 34960 | AL9: 35880 | AM9: 36800 | AN9: 37720 | AO9: 38640 | AP9: 39560 | AQ9: 40480 | AR9: 41400 | AS9: 42320 | AT9: 43240 | AU9: =+AT9+920 -> 44160
B10: 7501 | C10: =+D10/2 -> 2450 | D10: 4900 | E10: 5880 | F10: 6860 | G10: 7840 | H10: 8820 | I10: 9800 | J10: 10780 | K10: 11760 | L10: 12740 | M10: 13720 | N10: 14700 | O10: 15680 | P10: 16660 | Q10: 17640 | R10: 18620 | S10: 19600 | T10: 20580 | U10: 21560 | V10: 22540 | W10: 23520 | X10: 24500 | Y10: 25480 | Z10: 26460 | AA10: 27440 | AB10: 28420 | AC10: 29400 | AD10: 30380 | AE10: 31360 | AF10: 32340 | AG10: 33320 | AH10: 34300 | AI10: 35280 | AJ10: 36260 | AK10: 37240 | AL10: 38220 | AM10: 39200 | AN10: 40180 | AO10: 41160 | AP10: 42140 | AQ10: 43120 | AR10: 44100 | AS10: 45080 | AT10: 46060 | AU10: =+AT10+980 -> 47040
B11: 8001 | C11: =+D11/2 -> 2600 | D11: 5200 | E11: 6240 | F11: 7280 | G11: 8320 | H11: 9360 | I11: 10400 | J11: 11440 | K11: 12480 | L11: 13520 | M11: 14560 | N11: 15600 | O11: 16640 | P11: 17680 | Q11: 18720 | R11: 19760 | S11: 20800 | T11: 21840 | U11: 22880 | V11: 23920 | W11: 24960 | X11: 26000 | Y11: 27040 | Z11: 28080 | AA11: 29120 | AB11: 30160 | AC11: 31200 | AD11: 32240 | AE11: 33280 | AF11: 34320 | AG11: 35360 | AH11: 36400 | AI11: 37440 | AJ11: 38480 | AK11: 39520 | AL11: 40560 | AM11: 41600 | AN11: 42640 | AO11: 43680 | AP11: 44720 | AQ11: 45760 | AR11: 46800 | AS11: 47840 | AT11: 48880 | AU11: =+AT11+1040 -> 49920
B12: 8501 | C12: =+D12/2 -> 2750 | D12: 5500 | E12: 6600 | F12: 7700 | G12: 8800 | H12: 9900 | I12: 11000 | J12: 12100 | K12: 13200 | L12: 14300 | M12: 15400 | N12: 16500 | O12: 17600 | P12: 18700 | Q12: 19800 | R12: 20900 | S12: 22000 | T12: 23100 | U12: 24200 | V12: 25300 | W12: 26400 | X12: 27500 | Y12: 28600 | Z12: 29700 | AA12: 30800 | AB12: 31900 | AC12: 33000 | AD12: 34100 | AE12: 35200 | AF12: 36300 | AG12: 37400 | AH12: 38500 | AI12: 39600 | AJ12: 40700 | AK12: 41800 | AL12: 42900 | AM12: 44000 | AN12: 45100 | AO12: 46200 | AP12: 47300 | AQ12: 48400 | AR12: 49500 | AS12: 50600 | AT12: 51700 | AU12: =+AT12+1100 -> 52800
B13: 9001 | C13: =+D13/2 -> 2900 | D13: 5800 | E13: 6960 | F13: 8120 | G13: 9280 | H13: 10440 | I13: 11600 | J13: 12760 | K13: 13920 | L13: 15080 | M13: 16240 | N13: 17400 | O13: 18560 | P13: 19720 | Q13: 20880 | R13: 22040 | S13: 23200 | T13: 24360 | U13: 25520 | V13: 26680 | W13: 27840 | X13: 29000 | Y13: 30160 | Z13: 31320 | AA13: 32480 | AB13: 33640 | AC13: 34800 | AD13: 35960 | AE13: 37120 | AF13: 38280 | AG13: 39440 | AH13: 40600 | AI13: 41760 | AJ13: 42920 | AK13: 44080 | AL13: 45240 | AM13: 46400 | AN13: 47560 | AO13: 48720 | AP13: 49880 | AQ13: 51040 | AR13: 52200 | AS13: 53360 | AT13: 54520 | AU13: =+AT13+1160 -> 55680
B14: 9501 | C14: =+D14/2 -> 3050 | D14: 6100 | E14: 7320 | F14: 8540 | G14: 9760 | H14: 10980 | I14: 12200 | J14: 13420 | K14: 14640 | L14: 15860 | M14: 17080 | N14: 18300 | O14: 19520 | P14: 20740 | Q14: 21960 | R14: 23180 | S14: 24400 | T14: 25620 | U14: 26840 | V14: 28060 | W14: 29280 | X14: 30500 | Y14: 31720 | Z14: 32940 | AA14: 34160 | AB14: 35380 | AC14: 36600 | AD14: 37820 | AE14: 39040 | AF14: 40260 | AG14: 41480 | AH14: 42700 | AI14: 43920 | AJ14: 45140 | AK14: 46360 | AL14: 47580 | AM14: 48800 | AN14: 50020 | AO14: 51240 | AP14: 52460 | AQ14: 53680 | AR14: 54900 | AS14: 56120 | AT14: 57340 | AU14: =+AT14+1220 -> 58560
B15: 10001 | C15: =+D15/2 -> 3200 | D15: 6400 | E15: 7680 | F15: 8960 | G15: 10240 | H15: 11520 | I15: 12800 | J15: 14080 | K15: 15360 | L15: 16640 | M15: 17920 | N15: 19200 | O15: 20480 | P15: 21760 | Q15: 23040 | R15: 24320 | S15: 25600 | T15: 26880 | U15: 28160 | V15: 29440 | W15: 30720 | X15: 32000 | Y15: 33280 | Z15: 34560 | AA15: 35840 | AB15: 37120 | AC15: 38400 | AD15: 39680 | AE15: 40960 | AF15: 42240 | AG15: 43520 | AH15: 44800 | AI15: 46080 | AJ15: 47360 | AK15: 48640 | AL15: 49920 | AM15: 51200 | AN15: 52480 | AO15: 53760 | AP15: 55040 | AQ15: 56320 | AR15: 57600 | AS15: 58880 | AT15: 60160 | AU15: =+AT15+1280 -> 61440
B16: 10501 | C16: =+D16/2 -> 3350 | D16: 6700 | E16: 8040 | F16: 9380 | G16: 10720 | H16: 12060 | I16: 13400 | J16: 14740 | K16: 16080 | L16: 17420 | M16: 18760 | N16: 20100 | O16: 21440 | P16: 22780 | Q16: 24120 | R16: 25460 | S16: 26800 | T16: 28140 | U16: 29480 | V16: 30820 | W16: 32160 | X16: 33500 | Y16: 34840 | Z16: 36180 | AA16: 37520 | AB16: 38860 | AC16: 40200 | AD16: 41540 | AE16: 42880 | AF16: 44220 | AG16: 45560 | AH16: 46900 | AI16: 48240 | AJ16: 49580 | AK16: 50920 | AL16: 52260 | AM16: 53600 | AN16: 54940 | AO16: 56280 | AP16: 57620 | AQ16: 58960 | AR16: 60300 | AS16: 61640 | AT16: 62980 | AU16: =+AT16+1340 -> 64320
B17: 11001 | C17: =+D17/2 -> 3500 | D17: 7000 | E17: 8400 | F17: 9800 | G17: 11200 | H17: 12600 | I17: 14000 | J17: 15400 | K17: 16800 | L17: 18200 | M17: 19600 | N17: 21000 | O17: 22400 | P17: 23800 | Q17: 25200 | R17: 26600 | S17: 28000 | T17: 29400 | U17: 30800 | V17: 32200 | W17: 33600 | X17: 35000 | Y17: 36400 | Z17: 37800 | AA17: 39200 | AB17: 40600 | AC17: 42000 | AD17: 43400 | AE17: 44800 | AF17: 46200 | AG17: 47600 | AH17: 49000 | AI17: 50400 | AJ17: 51800 | AK17: 53200 | AL17: 54600 | AM17: 56000 | AN17: 57400 | AO17: 58800 | AP17: 60200 | AQ17: 61600 | AR17: 63000 | AS17: 64400 | AT17: 65800 | AU17: =+AT17+1400 -> 67200
B18: 11501 | C18: =+D18/2 -> 3650 | D18: 7300 | E18: 8760 | F18: 10220 | G18: 11680 | H18: 13140 | I18: 14600 | J18: 16060 | K18: 17520 | L18: 18980 | M18: 20440 | N18: 21900 | O18: 23360 | P18: 24820 | Q18: 26280 | R18: 27740 | S18: 29200 | T18: 30660 | U18: 32120 | V18: 33580 | W18: 35040 | X18: 36500 | Y18: 37960 | Z18: 39420 | AA18: 40880 | AB18: 42340 | AC18: 43800 | AD18: 45260 | AE18: 46720 | AF18: 48180 | AG18: 49640 | AH18: 51100 | AI18: 52560 | AJ18: 54020 | AK18: 55480 | AL18: 56940 | AM18: 58400 | AN18: 59860 | AO18: 61320 | AP18: 62780 | AQ18: 64240 | AR18: 65700 | AS18: 67160 | AT18: 68620 | AU18: =+AT18+1460 -> 70080
B19: 12001 | C19: =+D19/2 -> 3800 | D19: 7600 | E19: 9120 | F19: 10640 | G19: 12160 | H19: 13680 | I19: 15200 | J19: 16720 | K19: 18240 | L19: 19760 | M19: 21280 | N19: 22800 | O19: 24320 | P19: 25840 | Q19: 27360 | R19: 28880 | S19: 30400 | T19: 31920 | U19: 33440 | V19: 34960 | W19: 36480 | X19: 38000 | Y19: 39520 | Z19: 41040 | AA19: 42560 | AB19: 44080 | AC19: 45600 | AD19: 47120 | AE19: 48640 | AF19: 50160 | AG19: 51680 | AH19: 53200 | AI19: 54720 | AJ19: 56240 | AK19: 57760 | AL19: 59280 | AM19: 60800 | AN19: 62320 | AO19: 63840 | AP19: 65360 | AQ19: 66880 | AR19: 68400 | AS19: 69920 | AT19: 71440 | AU19: =+AT19+1520 -> 72960
B20: 12501 | C20: =+D20/2 -> 3950 | D20: 7900 | E20: 9480 | F20: =+F19+420 -> 11060 | G20: =+G19+480 -> 12640 | H20: 14220 | I20: 15800 | J20: 17380 | K20: 18960 | L20: 20540 | M20: 22120 | N20: 23700 | O20: 25280 | P20: 26860 | Q20: 28440 | R20: 30020 | S20: 31600 | T20: 33180 | U20: 34760 | V20: 36340 | W20: 37920 | X20: 39500 | Y20: 41080 | Z20: 42660
B21: 13001 | C21: =+D21/2 -> 4100 | D21: 8200 | E21: 9840 | F21: =+F20+420 -> 11480 | G21: =+G20+480 -> 13120 | H21: 14760 | I21: 16400 | J21: 18040 | K21: 19680 | L21: 21320 | M21: 22960 | N21: 24600 | O21: 26240 | P21: 27880 | Q21: 29520 | R21: 31160 | S21: 32800 | T21: 34440 | U21: 36080 | V21: 37720 | W21: 39360 | X21: 41000 | Y21: 42640 | Z21: 44280
B22: 13501 | C22: =+D22/2 -> 4250 | D22: 8500 | E22: 10200 | F22: =+F21+420 -> 11900 | G22: =+G21+480 -> 13600 | H22: 15300 | I22: 17000 | J22: 18700 | K22: 20400 | L22: 22100 | M22: 23800 | N22: 25500 | O22: 27200 | P22: 28900 | Q22: 30600 | R22: 32300 | S22: 34000 | T22: 35700 | U22: 37400 | V22: 39100 | W22: 40800 | X22: 42500 | Y22: 44200 | Z22: 45900
B23: 14001 | C23: =+D23/2 -> 4400 | D23: 8800 | E23: 10560 | F23: =+F22+420 -> 12320 | G23: =+G22+480 -> 14080 | H23: 15840 | I23: 17600 | J23: 19360 | K23: 21120 | L23: 22880 | M23: 24640 | N23: 26400 | O23: 28160 | P23: 29920 | Q23: 31680 | R23: 33440 | S23: 35200 | T23: 36960 | U23: 38720 | V23: 40480 | W23: 42240 | X23: 44000 | Y23: 45760 | Z23: 47520
B24: 14501 | C24: =+D24/2 -> 4550 | D24: 9100 | E24: 10920 | F24: =+F23+420 -> 12740 | G24: =+G23+480 -> 14560 | H24: 16380 | I24: 18200 | J24: 20020 | K24: 21840 | L24: 23660 | M24: 25480 | N24: 27300 | O24: 29120 | P24: 30940 | Q24: 32760 | R24: 34580 | S24: 36400 | T24: 38220 | U24: 40040 | V24: 41860 | W24: 43680 | X24: 45500 | Y24: 47320 | Z24: 49140
B25: 15001 | C25: =+D25/2 -> 4700 | D25: 9400 | E25: 11280 | F25: =+F24+420 -> 13160 | G25: =+G24+480 -> 15040 | H25: 16920 | I25: 18800 | J25: 20680 | K25: 22560 | L25: 24440 | M25: 26320 | N25: 28200 | O25: 30080 | P25: 31960 | Q25: 33840 | R25: 35720 | S25: 37600 | T25: 39480 | U25: 41360 | V25: 43240 | W25: 45120 | X25: 47000 | Y25: 48880 | Z25: 50760
B26: 15501 | C26: =+D26/2 -> 4850 | D26: 9700 | E26: 11640 | F26: =+F25+420 -> 13580 | G26: =+G25+480 -> 15520 | H26: 17460 | I26: 19400 | J26: 21340 | K26: 23280 | L26: 25220 | M26: 27160 | N26: 29100 | O26: 31040 | P26: 32980 | Q26: 34920 | R26: 36860 | S26: 38800 | T26: 40740 | U26: 42680 | V26: 44620 | W26: 46560 | X26: 48500 | Y26: 50440 | Z26: 52380
B27: 16001 | C27: =+D27/2 -> 5000 | D27: 10000 | E27: 12000 | F27: =+F26+420 -> 14000 | G27: =+G26+480 -> 16000 | H27: 18000 | I27: 20000 | J27: 22000 | K27: 24000 | L27: 26000 | M27: 28000 | N27: 30000 | O27: 32000 | P27: 34000 | Q27: 36000 | R27: 38000 | S27: 40000 | T27: 42000 | U27: 44000 | V27: 46000 | W27: 48000 | X27: 50000 | Y27: 52000 | Z27: 54000
B28: 16501 | C28: =+D28/2 -> 5150 | D28: 10300 | E28: 12360 | F28: =+F27+420 -> 14420 | G28: =+G27+480 -> 16480 | H28: 18540 | I28: 20600 | J28: 22660 | K28: 24720 | L28: 26780 | M28: 28840 | N28: 30900 | O28: 32960 | P28: 35020 | Q28: 37080 | R28: 39140 | S28: 41200 | T28: 43260 | U28: 45320 | V28: 47380 | W28: 49440 | X28: 51500 | Y28: 53560 | Z28: 55620
B29: 17001 | C29: =+D29/2 -> 5300 | D29: 10600 | E29: 12720 | F29: =+F28+420 -> 14840 | G29: =+G28+480 -> 16960 | H29: 19080 | I29: 21200 | J29: 23320 | K29: 25440 | L29: 27560 | M29: 29680 | N29: 31800 | O29: 33920 | P29: 36040 | Q29: 38160 | R29: 40280 | S29: 42400 | T29: 44520 | U29: 46640 | V29: 48760 | W29: 50880 | X29: 53000 | Y29: 55120 | Z29: 57240
B30: 17501 | C30: =+D30/2 -> 5450 | D30: 10900 | E30: 13080 | F30: =+F29+420 -> 15260 | G30: =+G29+480 -> 17440 | H30: 19620 | I30: 21800 | J30: 23980 | K30: 26160 | L30: 28340 | M30: 30520 | N30: 32700 | O30: 34880 | P30: 37060 | Q30: 39240 | R30: 41420 | S30: 43600 | T30: 45780 | U30: 47960 | V30: 50140 | W30: 52320 | X30: 54500 | Y30: 56680 | Z30: 58860
B31: 18001 | C31: =+D31/2 -> 5600 | D31: 11200 | E31: 13440 | F31: =+F30+420 -> 15680 | G31: =+G30+480 -> 17920 | H31: 20160 | I31: 22400 | J31: 24640 | K31: 26880 | L31: 29120 | M31: 31360 | N31: 33600 | O31: 35840 | P31: 38080 | Q31: 40320 | R31: 42560 | S31: 44800 | T31: 47040 | U31: 49280 | V31: 51520 | W31: 53760 | X31: 56000 | Y31: 58240 | Z31: 60480
... B34: 19501 | C34: =+D34/2 -> 6050 | D34: 12100 | E34: 14520 | F34: =+F33+420 -> 16940 | G34: =+G33+480 -> 19360 | H34: 21780 | I34: 24200 | J34: 26620 | K34: 29040 | L34: 31460 | M34: 33880 | N34: 36300 | O34: 38720 | P34: 41140 | Q34: 43560 | R34: 45980 | S34: 48400 | T34: 50820 | U34: 53240 | V34: 55660 | W34: 58080 | X34: 60500 | Y34: 62920 | Z34: 65340
B35: 20001 | C35: =+D35/2 -> 6200 | D35: 12400 | E35: =+E34+360 -> 14880 | F35: =+F34+420 -> 17360 | G35: =+G34+480 -> 19840 | H35: =+H34+540 -> 22320 | I35: =+I34+600 -> 24800 | J35: =+J34+660 -> 27280 | K35: =+K34+720 -> 29760 | L35: =+L34+780 -> 32240 | M35: =+M34+840 -> 34720 | N35: =+N34+900 -> 37200 | O35: 39680 | P35: 42160 | Q35: 44640 | R35: 47120 | S35: 49600 | T35: 52080 | U35: 54560 | V35: 57040 | W35: 59520 | X35: 62000 | Y35: 64480 | Z35: 66960
B36: 20501 | C36: =+D36/2 -> 6350 | D36: 12700 | E36: =+E35+360 -> 15240 | F36: =+F35+420 -> 17780 | G36: =+G35+480 -> 20320 | H36: =+H35+540 -> 22860 | I36: =+I35+600 -> 25400 | J36: =+J35+660 -> 27940 | K36: =+K35+720 -> 30480 | L36: =+L35+780 -> 33020 | M36: =+M35+840 -> 35560 | N36: =+N35+900 -> 38100 | O36: 40640 | P36: 43180 | Q36: 45720 | R36: 48260 | S36: 50800 | T36: 53340 | U36: 55880 | V36: 58420 | W36: 60960 | X36: 63500 | Y36: 66040 | Z36: 68580
B37: 21001 | C37: =+D37/2 -> 6500 | D37: 13000 | E37: =+E36+360 -> 15600 | F37: =+F36+420 -> 18200 | G37: =+G36+480 -> 20800 | H37: =+H36+540 -> 23400 | I37: =+I36+600 -> 26000 | J37: =+J36+660 -> 28600 | K37: =+K36+720 -> 31200 | L37: =+L36+780 -> 33800 | M37: =+M36+840 -> 36400 | N37: =+N36+900 -> 39000 | O37: 41600 | P37: 44200 | Q37: 46800 | R37: 49400 | S37: 52000 | T37: 54600 | U37: 57200 | V37: 59800 | W37: 62400 | X37: 65000 | Y37: 67600 | Z37: 70200
B38: 21501 | C38: =+D38/2 -> 6650 | D38: 13300 | E38: =+E37+360 -> 15960 | F38: =+F37+420 -> 18620 | G38: =+G37+480 -> 21280 | H38: =+H37+540 -> 23940 | I38: =+I37+600 -> 26600 | J38: =+J37+660 -> 29260 | K38: =+K37+720 -> 31920 | L38: =+L37+780 -> 34580 | M38: =+M37+840 -> 37240 | N38: =+N37+900 -> 39900 | O38: 42560 | P38: 45220 | Q38: 47880 | R38: 50540 | S38: 53200 | T38: 55860 | U38: 58520 | V38: 61180 | W38: 63840 | X38: 66500 | Y38: 69160 | Z38: 71820
B39: 22001 | C39: =+D39/2 -> 6800 | D39: 13600 | E39: =+E38+360 -> 16320 | F39: =+F38+420 -> 19040 | G39: =+G38+480 -> 21760 | H39: =+H38+540 -> 24480 | I39: =+I38+600 -> 27200 | J39: =+J38+660 -> 29920 | K39: =+K38+720 -> 32640 | L39: =+L38+780 -> 35360 | M39: =+M38+840 -> 38080 | N39: =+N38+900 -> 40800 | O39: 43520 | P39: 46240 | Q39: 48960 | R39: 51680 | S39: 54400 | T39: 57120 | U39: 59840 | V39: 62560 | W39: 65280 | X39: 68000 | Y39: 70720 | Z39: 73440
B40: 22501 | C40: =+D40/2 -> 6950 | D40: 13900 | E40: =+E39+360 -> 16680 | F40: =+F39+420 -> 19460 | G40: =+G39+480 -> 22240 | H40: =+H39+540 -> 25020 | I40: =+I39+600 -> 27800 | J40: =+J39+660 -> 30580 | K40: =+K39+720 -> 33360 | L40: =+L39+780 -> 36140 | M40: =+M39+840 -> 38920 | N40: =+N39+900 -> 41700 | O40: 44480 | P40: 47260 | Q40: 50040 | R40: 52820 | S40: 55600 | T40: 58380 | U40: 61160 | V40: 63940 | W40: 66720 | X40: 69500 | Y40: 72280 | Z40: 75060
B41: 23001 | C41: =+D41/2 -> 7100 | D41: 14200 | E41: =+E40+360 -> 17040 | F41: =+F40+420 -> 19880 | G41: =+G40+480 -> 22720 | H41: =+H40+540 -> 25560 | I41: =+I40+600 -> 28400 | J41: =+J40+660 -> 31240 | K41: =+K40+720 -> 34080 | L41: =+L40+780 -> 36920 | M41: =+M40+840 -> 39760 | N41: =+N40+900 -> 42600 | O41: 45440 | P41: 48280 | Q41: 51120 | R41: 53960 | S41: 56800 | T41: 59640 | U41: 62480 | V41: 65320 | W41: 68160 | X41: 71000 | Y41: 73840 | Z41: 76680
B42: 23501 | C42: =+D42/2 -> 7250 | D42: 14500 | E42: =+E41+360 -> 17400 | F42: =+F41+420 -> 20300 | G42: =+G41+480 -> 23200 | H42: =+H41+540 -> 26100 | I42: =+I41+600 -> 29000 | J42: =+J41+660 -> 31900 | K42: =+K41+720 -> 34800 | L42: =+L41+780 -> 37700 | M42: =+M41+840 -> 40600 | N42: =+N41+900 -> 43500 | O42: 46400 | P42: 49300 | Q42: 52200 | R42: 55100 | S42: 58000 | T42: 60900 | U42: 63800 | V42: 66700 | W42: 69600 | X42: 72500 | Y42: 75400 | Z42: 78300
B43: 24001 | C43: =+D43/2 -> 7400 | D43: 14800 | E43: =+E42+360 -> 17760 | F43: =+F42+420 -> 20720 | G43: =+G42+480 -> 23680 | H43: =+H42+540 -> 26640 | I43: =+I42+600 -> 29600 | J43: =+J42+660 -> 32560 | K43: =+K42+720 -> 35520 | L43: =+L42+780 -> 38480 | M43: =+M42+840 -> 41440 | N43: =+N42+900 -> 44400 | O43: 47360 | P43: 50320 | Q43: 53280 | R43: 56240 | S43: 59200 | T43: 62160 | U43: 65120 | V43: 68080 | W43: 71040 | X43: 74000 | Y43: 76960 | Z43: 79920
B44: 24501 | C44: =+D44/2 -> 7550 | D44: 15100 | E44: =+E43+360 -> 18120 | F44: =+F43+420 -> 21140 | G44: =+G43+480 -> 24160 | H44: =+H43+540 -> 27180 | I44: =+I43+600 -> 30200 | J44: =+J43+660 -> 33220 | K44: =+K43+720 -> 36240 | L44: =+L43+780 -> 39260 | M44: =+M43+840 -> 42280 | N44: =+N43+900 -> 45300 | O44: 48320 | P44: 51340 | Q44: 54360 | R44: 57380 | S44: 60400 | T44: 63420 | U44: 66440 | V44: 69460 | W44: 72480 | X44: 75500 | Y44: 78520 | Z44: 81540
B45: 25001 | C45: =+D45/2 -> 7700 | D45: 15400 | E45: =+E44+360 -> 18480 | F45: =+F44+420 -> 21560 | G45: =+G44+480 -> 24640 | H45: =+H44+540 -> 27720 | I45: =+I44+600 -> 30800 | J45: =+J44+660 -> 33880 | K45: =+K44+720 -> 36960 | L45: =+L44+780 -> 40040 | M45: =+M44+840 -> 43120 | N45: =+N44+900 -> 46200 | O45: 49280 | P45: 52360 | Q45: 55440 | R45: 58520 | S45: 61600 | T45: 64680 | U45: 67760 | V45: 70840 | W45: 73920 | X45: 77000 | Y45: 80080 | Z45: 83160
B46: 25501 | C46: =+D46/2 -> 7850 | D46: 15700 | E46: =+E45+360 -> 18840 | F46: =+F45+420 -> 21980 | G46: =+G45+480 -> 25120 | H46: =+H45+540 -> 28260 | I46: =+I45+600 -> 31400 | J46: =+J45+660 -> 34540 | K46: =+K45+720 -> 37680 | L46: =+L45+780 -> 40820 | M46: =+M45+840 -> 43960 | N46: =+N45+900 -> 47100 | O46: 50240 | P46: 53380 | Q46: 56520 | R46: 59660 | S46: 62800 | T46: 65940 | U46: 69080 | V46: 72220 | W46: 75360 | X46: 78500 | Y46: 81640 | Z46: 84780
B47: 26001 | C47: =+D47/2 -> 8000 | D47: 16000 | E47: 19200 | F47: =+F46+420 -> 22400 | G47: =+G46+480 -> 25600 | H47: 28800 | I47: 32000 | J47: 35200 | K47: 38400 | L47: 41600 | M47: 44800 | N47: 48000 | O47: 51200 | P47: 54400 | Q47: 57600 | R47: 60800 | S47: 64000 | T47: 67200 | U47: 70400 | V47: 73600 | W47: 76800 | X47: 80000 | Y47: 83200 | Z47: 86400
